BEGIN:VCALENDAR
VERSION:2.0
PRODID:-//Programa de Apoio e Assistência Social de Piratininga - ECPv5.6.0//NONSGML v1.0//EN
CALSCALE:GREGORIAN
METHOD:PUBLISH
X-WR-CALNAME:Programa de Apoio e Assistência Social de Piratininga
X-ORIGINAL-URL:https://www.paasp.com.br
X-WR-CALDESC:Eventos para Programa de Apoio e Assistência Social de Piratininga
BEGIN:VTIMEZONE
TZID:America/Sao_Paulo
BEGIN:STANDARD
TZOFFSETFROM:-0300
TZOFFSETTO:-0300
TZNAME:-03
DTSTART:20250101T000000
END:STANDARD
END:VTIMEZONE
BEGIN:VEVENT
DTSTART;TZID=America/Sao_Paulo:20250719T080000
DTEND;TZID=America/Sao_Paulo:20250719T190000
DTSTAMP:20260423T234456
CREATED:20250314T193406Z
LAST-MODIFIED:20250314T193406Z
UID:7373-1752912000-1752951600@www.paasp.com.br
SUMMARY:Feijoada!
DESCRIPTION:19/07/2024 – Feijoada- Ação Fraternal do Confiança Supermercado\, no Guestier \n\n		\n			 \n			\n				Compartilhe nas Redes Sociais:
URL:https://www.paasp.com.br/evento/feijoada/
LOCATION:Guestier Residencial Boutique\, Guestier Residencial Boutique\, Piratininga\, SP\, Brasil
END:VEVENT
END:VCALENDAR