BEGIN:VCALENDAR
VERSION:2.0
PRODID:-//Programa de Apoio e Assistência Social de Piratininga - ECPv5.6.0//NONSGML v1.0//EN
CALSCALE:GREGORIAN
METHOD:PUBLISH
X-WR-CALNAME:Programa de Apoio e Assistência Social de Piratininga
X-ORIGINAL-URL:https://www.paasp.com.br
X-WR-CALDESC:Eventos para Programa de Apoio e Assistência Social de Piratininga
BEGIN:VTIMEZONE
TZID:America/Sao_Paulo
BEGIN:STANDARD
TZOFFSETFROM:-0300
TZOFFSETTO:-0300
TZNAME:-03
DTSTART:20250101T000000
END:STANDARD
END:VTIMEZONE
BEGIN:VEVENT
DTSTART;TZID=America/Sao_Paulo:20250426T080000
DTEND;TZID=America/Sao_Paulo:20250426T190000
DTSTAMP:20260423T114125
CREATED:20250314T185717Z
LAST-MODIFIED:20250314T185717Z
UID:7371-1745654400-1745694000@www.paasp.com.br
SUMMARY:Moto Show!!
DESCRIPTION:26/04/2025 sábado: Moto show \n\n		\n			 \n			\n				Compartilhe nas Redes Sociais:\n			\n	    \n		     \n		\n			\n				\n				   \n			\n				\n			\n		\n				   \n				\n			\n		\n			\n				\n				   \n			\n				\n			\n		\n				   \n				\n			\n		\n			\n				\n				   \n			\n				\n			\n		\n				   \n				\n			\n		\n			\n				\n				   \n			\n				\n			\n		\n				   \n				\n			\n		\n			\n				\n				   \n			\n				\n			\n		\n				   \n				\n			\n		\n\n	Relacionado
URL:https://www.paasp.com.br/evento/moto-show/
CATEGORIES:EVENTOS
END:VEVENT
END:VCALENDAR